BEGIN:VCALENDAR
VERSION:2.0
PRODID:-//Linda Drake Consulting - ECPv6.15.20//NONSGML v1.0//EN
CALSCALE:GREGORIAN
METHOD:PUBLISH
X-ORIGINAL-URL:https://lindadrakeconsulting.com
X-WR-CALDESC:Events for Linda Drake Consulting
REFRESH-INTERVAL;VALUE=DURATION:PT1H
X-Robots-Tag:noindex
X-PUBLISHED-TTL:PT1H
BEGIN:VTIMEZONE
TZID:America/Chicago
BEGIN:DAYLIGHT
TZOFFSETFROM:-0600
TZOFFSETTO:-0500
TZNAME:CDT
DTSTART:20180311T080000
END:DAYLIGHT
BEGIN:STANDARD
TZOFFSETFROM:-0500
TZOFFSETTO:-0600
TZNAME:CST
DTSTART:20181104T070000
END:STANDARD
BEGIN:DAYLIGHT
TZOFFSETFROM:-0600
TZOFFSETTO:-0500
TZNAME:CDT
DTSTART:20190310T080000
END:DAYLIGHT
BEGIN:STANDARD
TZOFFSETFROM:-0500
TZOFFSETTO:-0600
TZNAME:CST
DTSTART:20191103T070000
END:STANDARD
BEGIN:DAYLIGHT
TZOFFSETFROM:-0600
TZOFFSETTO:-0500
TZNAME:CDT
DTSTART:20200308T080000
END:DAYLIGHT
BEGIN:STANDARD
TZOFFSETFROM:-0500
TZOFFSETTO:-0600
TZNAME:CST
DTSTART:20201101T070000
END:STANDARD
END:VTIMEZONE
BEGIN:VEVENT
DTSTART;TZID=America/Chicago:20191019T080000
DTEND;TZID=America/Chicago:20191019T170000
DTSTAMP:20260424T154547
CREATED:20190730T194413Z
LAST-MODIFIED:20190920T025319Z
UID:361-1571472000-1571504400@lindadrakeconsulting.com
SUMMARY:Celebration of Gratitude
DESCRIPTION:Call Linda for more information 512-218-8846
URL:https://lindadrakeconsulting.com/event/celebration-of-gratitude/
CATEGORIES:Community
ATTACH;FMTTYPE=image/jpeg:https://lindadrakeconsulting.com/wp-content/uploads/2019/07/70751214-hand-heart-shape-silhouette-made-against-the-sun-sky-of-a-sunrise-or-sunset.jpg
END:VEVENT
END:VCALENDAR